BEGIN:VCALENDAR
VERSION:2.0
PRODID:-//CNJ - ECPv6.10.2//NONSGML v1.0//EN
CALSCALE:GREGORIAN
METHOD:PUBLISH
X-ORIGINAL-URL:https://cnjap.pt
X-WR-CALDESC:Events for CNJ
REFRESH-INTERVAL;VALUE=DURATION:PT1H
X-Robots-Tag:noindex
X-PUBLISHED-TTL:PT1H
BEGIN:VTIMEZONE
TZID:UTC
BEGIN:STANDARD
TZOFFSETFROM:+0000
TZOFFSETTO:+0000
TZNAME:UTC
DTSTART:20250101T000000
END:STANDARD
END:VTIMEZONE
BEGIN:VEVENT
DTSTART;TZID=UTC:20251113T100000
DTEND;TZID=UTC:20251113T180000
DTSTAMP:20260422T011633
CREATED:20251030T082904Z
LAST-MODIFIED:20251030T083004Z
UID:5570-1763028000-1763056800@cnjap.pt
SUMMARY:III Seminário de Estratégias Alimentares de Base Territorial
DESCRIPTION:PROGRAMA
URL:https://cnjap.pt/agenda/iii-seminario-de-estrategias-alimentares-de-base-territorial/
LOCATION:UTAD – Auditório B0.01 Complexo Laboratorial
CATEGORIES:Desperdício Alimentar,Estratégias Alimentares,Sustentabilidade
ATTACH;FMTTYPE=image/png:https://cnjap.pt/wp-content/uploads/2025/10/utadbanner_1100x300.png
END:VEVENT
END:VCALENDAR