BEGIN:VCALENDAR
VERSION:2.0
PRODID:-//CNJ - ECPv6.10.2//NONSGML v1.0//EN
CALSCALE:GREGORIAN
METHOD:PUBLISH
X-WR-CALNAME:CNJ
X-ORIGINAL-URL:https://cnjap.pt
X-WR-CALDESC:Events for CNJ
REFRESH-INTERVAL;VALUE=DURATION:PT1H
X-Robots-Tag:noindex
X-PUBLISHED-TTL:PT1H
BEGIN:VTIMEZONE
TZID:UTC
BEGIN:STANDARD
TZOFFSETFROM:+0000
TZOFFSETTO:+0000
TZNAME:UTC
DTSTART:20250101T000000
END:STANDARD
END:VTIMEZONE
BEGIN:VEVENT
DTSTART;TZID=UTC:20250329T093000
DTEND;TZID=UTC:20250329T133000
DTSTAMP:20260421T100338
CREATED:20250328T124636Z
LAST-MODIFIED:20250708T161523Z
UID:3533-1743240600-1743255000@cnjap.pt
SUMMARY:Investimento e Vinha sustentável
DESCRIPTION:Ação de informação temática destinada a agricultores\, realizada no âmbito do projeto Operação 2.1.4 – Ações de Informação\, apoiado pelo PDR2020. \nAs apresentações estarão a cargo de Carlos Alberto Franco\, dirigente da CNJ –  Confederação Nacional dos  Jovens Agricultores e do Desenvolvimento Rural. \nA entrada é livre.
URL:https://cnjap.pt/agenda/investimento-e-vinha-sustentavel/
LOCATION:Largo da Igreja nº100\, Corgo\, Largo da Igreja nº100\, Corgo\, Celorico de Basto\, Braga\, 4890-181\, Portugal
CATEGORIES:Agricultura,Desenvolvimento Rural,Vinha
ATTACH;FMTTYPE=image/jpeg:https://cnjap.pt/wp-content/uploads/2025/03/Accao-2.1.4_Celorico_1.jpeg
END:VEVENT
BEGIN:VEVENT
DTSTART;TZID=UTC:20250329T143000
DTEND;TZID=UTC:20250329T183000
DTSTAMP:20260421T100338
CREATED:20250328T132843Z
LAST-MODIFIED:20250708T161556Z
UID:3542-1743258600-1743273000@cnjap.pt
SUMMARY:Investimento e Hortícolas Biológicos
DESCRIPTION:Ação de informação temática destinada a agricultores\, realizada no âmbito do projeto Operação 2.1.4 – Ações de Informação\, apoiado pelo PDR2020. \nAs apresentações estarão a cargo de Carlos Alberto Franco\, dirigente da CNJ –  Confederação Nacional dos  Jovens Agricultores e do Desenvolvimento Rural. \nA entrada é livre.
URL:https://cnjap.pt/agenda/investimento-e-horticolas-biologicos/
LOCATION:Casa da Taipa\, Rua Canedo de Basto\, 1288 Canedo de Basto\, Celorico de Basto\, Braga\, 4890-142\, Portugal
CATEGORIES:Agricultura,Biológicos,Desenvolvimento Rural,Hortícolas
ATTACH;FMTTYPE=image/jpeg:https://cnjap.pt/wp-content/uploads/2025/03/Acao-2.1.4_Celorico_2.jpeg
END:VEVENT
END:VCALENDAR